BEGIN:VCALENDAR
VERSION:2.0
PRODID:-//Donabate Scouting - ECPv6.15.15//NONSGML v1.0//EN
CALSCALE:GREGORIAN
METHOD:PUBLISH
X-ORIGINAL-URL:https://donabatescouting.com
X-WR-CALDESC:Events for Donabate Scouting
REFRESH-INTERVAL;VALUE=DURATION:PT1H
X-Robots-Tag:noindex
X-PUBLISHED-TTL:PT1H
BEGIN:VTIMEZONE
TZID:Europe/Dublin
BEGIN:STANDARD
TZOFFSETFROM:+0000
TZOFFSETTO:+0100
TZNAME:IST
DTSTART:20220327T010000
END:STANDARD
BEGIN:DAYLIGHT
TZOFFSETFROM:+0100
TZOFFSETTO:+0000
TZNAME:GMT
DTSTART:20221030T010000
END:DAYLIGHT
BEGIN:STANDARD
TZOFFSETFROM:+0000
TZOFFSETTO:+0100
TZNAME:IST
DTSTART:20230326T010000
END:STANDARD
BEGIN:DAYLIGHT
TZOFFSETFROM:+0100
TZOFFSETTO:+0000
TZNAME:GMT
DTSTART:20231029T010000
END:DAYLIGHT
BEGIN:STANDARD
TZOFFSETFROM:+0000
TZOFFSETTO:+0100
TZNAME:IST
DTSTART:20240331T010000
END:STANDARD
BEGIN:DAYLIGHT
TZOFFSETFROM:+0100
TZOFFSETTO:+0000
TZNAME:GMT
DTSTART:20241027T010000
END:DAYLIGHT
END:VTIMEZONE
BEGIN:VEVENT
DTSTART;TZID=Europe/Dublin:20231122T190000
DTEND;TZID=Europe/Dublin:20231122T203000
DTSTAMP:20260425T114819
CREATED:20231113T105902Z
LAST-MODIFIED:20231113T105911Z
UID:368443-1700679600-1700685000@donabatescouting.com
SUMMARY:Cub Meeting
DESCRIPTION:
URL:https://donabatescouting.com/calendar/cub-meeting-2/
LOCATION:Scout Den\, Portrane Road\, Donabate\, Dublin\, K36 HO48
CATEGORIES:Cubs
ATTACH;FMTTYPE=image/jpeg:https://donabatescouting.com/wp-content/uploads/2021/09/Donabate-Scouting-Cub-scouts-HP-mobile.jpg
END:VEVENT
BEGIN:VEVENT
DTSTART;TZID=Europe/Dublin:20231120T190000
DTEND;TZID=Europe/Dublin:20231120T200000
DTSTAMP:20260425T114819
CREATED:20231113T110326Z
LAST-MODIFIED:20231113T110336Z
UID:368449-1700506800-1700510400@donabatescouting.com
SUMMARY:Beaver Meeting
DESCRIPTION:
URL:https://donabatescouting.com/calendar/beaver-meeting/
LOCATION:Scout Den\, Portrane Road\, Donabate\, Dublin\, K36 HO48
CATEGORIES:Beavers
ATTACH;FMTTYPE=image/jpeg:https://donabatescouting.com/wp-content/uploads/2021/09/Donabate-Scouting-Beaver-scouts-HP-mobile.jpg
END:VEVENT
BEGIN:VEVENT
DTSTART;TZID=Europe/Dublin:20231118T100000
DTEND;TZID=Europe/Dublin:20231119T100000
DTSTAMP:20260425T114819
CREATED:20231106T154429Z
LAST-MODIFIED:20231106T154438Z
UID:368400-1700301600-1700388000@donabatescouting.com
SUMMARY:Turvey Camp
DESCRIPTION:
URL:https://donabatescouting.com/calendar/turvey-camp/
LOCATION:Dexters Farm Turvey\, Donabate Dexters Farm\, Turvey Ave\, Turvey\, Donabate\, Co. Dublin\, K36 YD39\, Ireland
CATEGORIES:Scouts
ATTACH;FMTTYPE=image/jpeg:https://donabatescouting.com/wp-content/uploads/2021/09/Donabate-Scouting-scouts-HP-mobile.jpg
END:VEVENT
BEGIN:VEVENT
DTSTART;TZID=Europe/Dublin:20231116T193000
DTEND;TZID=Europe/Dublin:20231116T210000
DTSTAMP:20260425T114819
CREATED:20231106T154226Z
LAST-MODIFIED:20231106T154257Z
UID:368396-1700163000-1700168400@donabatescouting.com
SUMMARY:Camp Gear Prep
DESCRIPTION:
URL:https://donabatescouting.com/calendar/camp-gear-prep/
LOCATION:Scout Den\, Portrane Road\, Donabate\, Dublin\, K36 HO48
CATEGORIES:Scouts
ATTACH;FMTTYPE=image/jpeg:https://donabatescouting.com/wp-content/uploads/2021/09/Donabate-Scouting-scouts-HP-mobile.jpg
END:VEVENT
BEGIN:VEVENT
DTSTART;TZID=Europe/Dublin:20231115T190000
DTEND;TZID=Europe/Dublin:20231115T203000
DTSTAMP:20260425T114819
CREATED:20231113T105734Z
LAST-MODIFIED:20231113T110011Z
UID:368440-1700074800-1700080200@donabatescouting.com
SUMMARY:Cub Meeting
DESCRIPTION:
URL:https://donabatescouting.com/calendar/cub-meeting/
LOCATION:Scout Den\, Portrane Road\, Donabate\, Dublin\, K36 HO48
CATEGORIES:Cubs
ATTACH;FMTTYPE=image/jpeg:https://donabatescouting.com/wp-content/uploads/2021/09/Donabate-Scouting-Cub-scouts-HP-mobile.jpg
END:VEVENT
BEGIN:VEVENT
DTSTART;TZID=Europe/Dublin:20231113T190000
DTEND;TZID=Europe/Dublin:20231113T200000
DTSTAMP:20260425T114819
CREATED:20231106T155659Z
LAST-MODIFIED:20231106T155707Z
UID:368425-1699902000-1699905600@donabatescouting.com
SUMMARY:No Meeting
DESCRIPTION:
URL:https://donabatescouting.com/calendar/no-meeting/
LOCATION:Scout Den\, Portrane Road\, Donabate\, Dublin\, K36 HO48
CATEGORIES:Beavers
ATTACH;FMTTYPE=image/jpeg:https://donabatescouting.com/wp-content/uploads/2021/09/Donabate-Scouting-Beaver-scouts-HP-mobile.jpg
END:VEVENT
BEGIN:VEVENT
DTSTART;TZID=Europe/Dublin:20231111T150000
DTEND;TZID=Europe/Dublin:20231112T093000
DTSTAMP:20260425T114819
CREATED:20231106T155531Z
LAST-MODIFIED:20231106T155541Z
UID:368422-1699714800-1699781400@donabatescouting.com
SUMMARY:Autumn Overnight
DESCRIPTION:
URL:https://donabatescouting.com/calendar/autumn-overnight/
LOCATION:Scout Den\, Portrane Road\, Donabate\, Dublin\, K36 HO48
CATEGORIES:Beavers
ATTACH;FMTTYPE=image/jpeg:https://donabatescouting.com/wp-content/uploads/2021/09/Donabate-Scouting-Beaver-scouts-HP-mobile.jpg
END:VEVENT
BEGIN:VEVENT
DTSTART;TZID=Europe/Dublin:20231109T193000
DTEND;TZID=Europe/Dublin:20231109T210000
DTSTAMP:20260425T114819
CREATED:20231106T154041Z
LAST-MODIFIED:20231106T154049Z
UID:368393-1699558200-1699563600@donabatescouting.com
SUMMARY:Camp cooking prep
DESCRIPTION:
URL:https://donabatescouting.com/calendar/camp-cooking-prep/
LOCATION:Scout Den\, Portrane Road\, Donabate\, Dublin\, K36 HO48
CATEGORIES:Scouts
END:VEVENT
BEGIN:VEVENT
DTSTART;TZID=Europe/Dublin:20231108T070000
DTEND;TZID=Europe/Dublin:20231108T203000
DTSTAMP:20260425T114819
CREATED:20231107T095248Z
LAST-MODIFIED:20231107T095256Z
UID:368428-1699426800-1699475400@donabatescouting.com
SUMMARY:Training Review
DESCRIPTION:
URL:https://donabatescouting.com/calendar/training-review/
LOCATION:Scout Den\, Portrane Road\, Donabate\, Dublin\, K36 HO48
CATEGORIES:Cubs
ATTACH;FMTTYPE=image/jpeg:https://donabatescouting.com/wp-content/uploads/2021/09/Donabate-Scouting-Cub-scouts-HP-mobile.jpg
END:VEVENT
BEGIN:VEVENT
DTSTART;TZID=Europe/Dublin:20231106T190000
DTEND;TZID=Europe/Dublin:20231106T200000
DTSTAMP:20260425T114819
CREATED:20231106T155348Z
LAST-MODIFIED:20231106T155358Z
UID:368419-1699297200-1699300800@donabatescouting.com
SUMMARY:Overnight Prep
DESCRIPTION:
URL:https://donabatescouting.com/calendar/overnight-prep/
LOCATION:Scout Den\, Portrane Road\, Donabate\, Dublin\, K36 HO48
CATEGORIES:Beavers
ATTACH;FMTTYPE=image/jpeg:https://donabatescouting.com/wp-content/uploads/2021/09/Donabate-Scouting-Beaver-scouts-HP-mobile.jpg
END:VEVENT
BEGIN:VEVENT
DTSTART;TZID=Europe/Dublin:20231104T120000
DTEND;TZID=Europe/Dublin:20231104T170000
DTSTAMP:20260425T114819
CREATED:20231106T155222Z
LAST-MODIFIED:20231106T155231Z
UID:368416-1699099200-1699117200@donabatescouting.com
SUMMARY:Sixer & Seconder training
DESCRIPTION:
URL:https://donabatescouting.com/calendar/sixer-seconder-training/
LOCATION:Scout Den\, Portrane Road\, Donabate\, Dublin\, K36 HO48
CATEGORIES:Cubs
ATTACH;FMTTYPE=image/jpeg:https://donabatescouting.com/wp-content/uploads/2021/09/Donabate-Scouting-Cub-scouts-HP-mobile.jpg
END:VEVENT
BEGIN:VEVENT
DTSTART;TZID=Europe/Dublin:20231102T193000
DTEND;TZID=Europe/Dublin:20231102T210000
DTSTAMP:20260425T114819
CREATED:20231002T102830Z
LAST-MODIFIED:20231002T102838Z
UID:368376-1698953400-1698958800@donabatescouting.com
SUMMARY:No Meeting Tonight.
DESCRIPTION:
URL:https://donabatescouting.com/calendar/no-meeting-tonight/
LOCATION:Scout Den\, Portrane Road\, Donabate\, Dublin\, K36 HO48
CATEGORIES:Scouts
ATTACH;FMTTYPE=image/jpeg:https://donabatescouting.com/wp-content/uploads/2021/09/Donabate-Scouting-scouts-HP-mobile.jpg
END:VEVENT
BEGIN:VEVENT
DTSTART;TZID=Europe/Dublin:20231026T193000
DTEND;TZID=Europe/Dublin:20231026T210000
DTSTAMP:20260425T114819
CREATED:20231002T102659Z
LAST-MODIFIED:20231002T102708Z
UID:368373-1698348600-1698354000@donabatescouting.com
SUMMARY:Scout Den - Tent Pitching
DESCRIPTION:
URL:https://donabatescouting.com/calendar/scout-den-tent-pitching/
LOCATION:Scout Den\, Portrane Road\, Donabate\, Dublin\, K36 HO48
CATEGORIES:Scouts
ATTACH;FMTTYPE=image/jpeg:https://donabatescouting.com/wp-content/uploads/2021/09/Donabate-Scouting-scouts-HP-mobile.jpg
END:VEVENT
BEGIN:VEVENT
DTSTART;TZID=Europe/Dublin:20231025T190000
DTEND;TZID=Europe/Dublin:20231025T203000
DTSTAMP:20260425T114819
CREATED:20230920T150920Z
LAST-MODIFIED:20230920T150925Z
UID:368316-1698260400-1698265800@donabatescouting.com
SUMMARY:Halloween Fancy dress party
DESCRIPTION:
URL:https://donabatescouting.com/calendar/halloween-fancy-dress-party/
LOCATION:Scout Den\, Portrane Road\, Donabate\, Dublin\, K36 HO48
CATEGORIES:Cubs
ATTACH;FMTTYPE=image/jpeg:https://donabatescouting.com/wp-content/uploads/2021/09/Donabate-Scouting-Cub-scouts-HP-mobile.jpg
END:VEVENT
BEGIN:VEVENT
DTSTART;TZID=Europe/Dublin:20231023T190000
DTEND;TZID=Europe/Dublin:20231023T200000
DTSTAMP:20260425T114819
CREATED:20230920T152317Z
LAST-MODIFIED:20231023T134317Z
UID:368334-1698087600-1698091200@donabatescouting.com
SUMMARY:Halloween Crafts
DESCRIPTION:
URL:https://donabatescouting.com/calendar/halloween-crafts/
LOCATION:Scout Den\, Portrane Road\, Donabate\, Dublin\, K36 HO48
CATEGORIES:Beavers
ATTACH;FMTTYPE=image/jpeg:https://donabatescouting.com/wp-content/uploads/2021/09/Donabate-Scouting-Beaver-scouts-HP-mobile.jpg
END:VEVENT
BEGIN:VEVENT
DTSTART;VALUE=DATE:20231022
DTEND;VALUE=DATE:20231023
DTSTAMP:20260425T114819
CREATED:20231002T102330Z
LAST-MODIFIED:20231002T102506Z
UID:368369-1697932800-1698019199@donabatescouting.com
SUMMARY:Rock Climbing - Dalkey (Killiney Hill Carpark)
DESCRIPTION:
URL:https://donabatescouting.com/calendar/rock-climbing-dalkey-killiney-hill-carpark/
LOCATION:Dalkey Quarry\, Dalkey Quarry\, Dublin\, Ireland
CATEGORIES:Scouts
ATTACH;FMTTYPE=image/jpeg:https://donabatescouting.com/wp-content/uploads/2021/09/Donabate-Scouting-scouts-HP-mobile.jpg
END:VEVENT
BEGIN:VEVENT
DTSTART;TZID=Europe/Dublin:20231019T193000
DTEND;TZID=Europe/Dublin:20231019T210000
DTSTAMP:20260425T114819
CREATED:20231002T102009Z
LAST-MODIFIED:20231009T114637Z
UID:368364-1697743800-1697749200@donabatescouting.com
SUMMARY:First Aid training
DESCRIPTION:
URL:https://donabatescouting.com/calendar/first-aid-training/
LOCATION:Scout Den\, Portrane Road\, Donabate\, Dublin\, K36 HO48
CATEGORIES:Scouts
ATTACH;FMTTYPE=image/jpeg:https://donabatescouting.com/wp-content/uploads/2021/09/Donabate-Scouting-scouts-HP-mobile.jpg
END:VEVENT
BEGIN:VEVENT
DTSTART;TZID=Europe/Dublin:20231018T190000
DTEND;TZID=Europe/Dublin:20231018T203000
DTSTAMP:20260425T114819
CREATED:20230920T150724Z
LAST-MODIFIED:20230920T150728Z
UID:368313-1697655600-1697661000@donabatescouting.com
SUMMARY:Scout Den
DESCRIPTION:
URL:https://donabatescouting.com/calendar/scout-den-3/
LOCATION:Scout Den\, Portrane Road\, Donabate\, Dublin\, K36 HO48
CATEGORIES:Cubs
ATTACH;FMTTYPE=image/jpeg:https://donabatescouting.com/wp-content/uploads/2021/09/Donabate-Scouting-Cub-scouts-HP-mobile.jpg
END:VEVENT
BEGIN:VEVENT
DTSTART;TZID=Europe/Dublin:20231016T190000
DTEND;TZID=Europe/Dublin:20231016T200000
DTSTAMP:20260425T114819
CREATED:20230920T151829Z
LAST-MODIFIED:20231009T114952Z
UID:368331-1697482800-1697486400@donabatescouting.com
SUMMARY:Air Badge Presentation
DESCRIPTION:
URL:https://donabatescouting.com/calendar/air-badge-presentation/
LOCATION:Scout Den\, Portrane Road\, Donabate\, Dublin\, K36 HO48
CATEGORIES:Beavers
ATTACH;FMTTYPE=image/jpeg:https://donabatescouting.com/wp-content/uploads/2021/09/Donabate-Scouting-Beaver-scouts-HP-mobile.jpg
END:VEVENT
BEGIN:VEVENT
DTSTART;TZID=Europe/Dublin:20231015T090000
DTEND;TZID=Europe/Dublin:20231015T170000
DTSTAMP:20260425T114819
CREATED:20230920T151434Z
LAST-MODIFIED:20230920T151528Z
UID:368323-1697360400-1697389200@donabatescouting.com
SUMMARY:Dublinia
DESCRIPTION:
URL:https://donabatescouting.com/calendar/dublinia/
LOCATION:Dublinia\, St Michael’s Hill\, Christ Church\, Dublin 8
CATEGORIES:Cubs
ATTACH;FMTTYPE=image/jpeg:https://donabatescouting.com/wp-content/uploads/2021/09/Donabate-Scouting-Cub-scouts-HP-mobile.jpg
END:VEVENT
BEGIN:VEVENT
DTSTART;VALUE=DATE:20231014
DTEND;VALUE=DATE:20231015
DTSTAMP:20260425T114819
CREATED:20231002T101615Z
LAST-MODIFIED:20231002T101647Z
UID:368361-1697241600-1697327999@donabatescouting.com
SUMMARY:Miner's Pass Hike Glendalough
DESCRIPTION:
URL:https://donabatescouting.com/calendar/miners-pass-hike-glendalough/
LOCATION:Glendalough\, Glendalough\, Bray\, Co. Wicklow\, Leinster\, A98 HC80\, Ireland
CATEGORIES:Scouts
ATTACH;FMTTYPE=image/jpeg:https://donabatescouting.com/wp-content/uploads/2021/09/Donabate-Scouting-scouts-HP-mobile.jpg
END:VEVENT
BEGIN:VEVENT
DTSTART;TZID=Europe/Dublin:20231012T193000
DTEND;TZID=Europe/Dublin:20231012T210000
DTSTAMP:20260425T114819
CREATED:20231002T101432Z
LAST-MODIFIED:20231002T101440Z
UID:368357-1697139000-1697144400@donabatescouting.com
SUMMARY:Scout Den - Miner's Pass Hike Prep & Pioneering
DESCRIPTION:
URL:https://donabatescouting.com/calendar/scout-den-miners-pass-hike-prep-pioneering/
LOCATION:Scout Den\, Portrane Road\, Donabate\, Dublin\, K36 HO48
CATEGORIES:Scouts
ATTACH;FMTTYPE=image/jpeg:https://donabatescouting.com/wp-content/uploads/2021/09/Donabate-Scouting-scouts-HP-mobile.jpg
END:VEVENT
BEGIN:VEVENT
DTSTART;TZID=Europe/Dublin:20231011T190000
DTEND;TZID=Europe/Dublin:20231011T203000
DTSTAMP:20260425T114819
CREATED:20230920T150635Z
LAST-MODIFIED:20230920T150639Z
UID:368310-1697050800-1697056200@donabatescouting.com
SUMMARY:Scout Den
DESCRIPTION:
URL:https://donabatescouting.com/calendar/scout-den-2/
LOCATION:Scout Den\, Portrane Road\, Donabate\, Dublin\, K36 HO48
CATEGORIES:Cubs
ATTACH;FMTTYPE=image/jpeg:https://donabatescouting.com/wp-content/uploads/2021/09/Donabate-Scouting-Cub-scouts-HP-mobile.jpg
END:VEVENT
BEGIN:VEVENT
DTSTART;TZID=Europe/Dublin:20231009T190000
DTEND;TZID=Europe/Dublin:20231009T200000
DTSTAMP:20260425T114819
CREATED:20230920T151701Z
LAST-MODIFIED:20231009T114856Z
UID:368327-1696878000-1696881600@donabatescouting.com
SUMMARY:Donabate Beach
DESCRIPTION:
URL:https://donabatescouting.com/calendar/donabate-beach-2/
LOCATION:Donabate Beach\, Donabate Beach\, K36 V064\, Ireland
CATEGORIES:Beavers
ATTACH;FMTTYPE=image/jpeg:https://donabatescouting.com/wp-content/uploads/2021/09/Donabate-Scouting-Beaver-scouts-HP-mobile.jpg
END:VEVENT
BEGIN:VEVENT
DTSTART;TZID=Europe/Dublin:20231008T140000
DTEND;TZID=Europe/Dublin:20231008T160000
DTSTAMP:20260425T114819
CREATED:20230920T151146Z
LAST-MODIFIED:20230920T151150Z
UID:368319-1696773600-1696780800@donabatescouting.com
SUMMARY:Orienteering afternoon
DESCRIPTION:
URL:https://donabatescouting.com/calendar/orienteering-afternoon/
LOCATION:Newbridge House\, Newbridge Hopuse\, K36 VR90
CATEGORIES:Cubs
ATTACH;FMTTYPE=image/jpeg:https://donabatescouting.com/wp-content/uploads/2021/09/Donabate-Scouting-Cub-scouts-HP-mobile.jpg
END:VEVENT
BEGIN:VEVENT
DTSTART;TZID=Europe/Dublin:20231007T110000
DTEND;TZID=Europe/Dublin:20231007T130000
DTSTAMP:20260425T114819
CREATED:20230920T150301Z
LAST-MODIFIED:20230920T150305Z
UID:368299-1696676400-1696683600@donabatescouting.com
SUMMARY:Treasure Hunt
DESCRIPTION:
URL:https://donabatescouting.com/calendar/treasure-hunt/
LOCATION:Malahide Castle\, Back Rd\, Malahide Demesne\, Malahide\, Co. Dublin\, K36 C432\, Ireland
CATEGORIES:Beavers
ATTACH;FMTTYPE=image/jpeg:https://donabatescouting.com/wp-content/uploads/2021/09/Donabate-Scouting-Beaver-scouts-HP-mobile.jpg
END:VEVENT
BEGIN:VEVENT
DTSTART;TZID=Europe/Dublin:20231005T193000
DTEND;TZID=Europe/Dublin:20231005T210000
DTSTAMP:20260425T114819
CREATED:20231002T101232Z
LAST-MODIFIED:20231002T101240Z
UID:368353-1696534200-1696539600@donabatescouting.com
SUMMARY:Scout Den - Backwoods
DESCRIPTION:
URL:https://donabatescouting.com/calendar/scout-den-backwoods/
LOCATION:Scout Den\, Portrane Road\, Donabate\, Dublin\, K36 HO48
CATEGORIES:Scouts
ATTACH;FMTTYPE=image/jpeg:https://donabatescouting.com/wp-content/uploads/2021/09/Donabate-Scouting-scouts-HP-mobile.jpg
END:VEVENT
BEGIN:VEVENT
DTSTART;TZID=Europe/Dublin:20231004T190000
DTEND;TZID=Europe/Dublin:20231004T203000
DTSTAMP:20260425T114819
CREATED:20230920T150540Z
LAST-MODIFIED:20230920T150805Z
UID:368305-1696446000-1696451400@donabatescouting.com
SUMMARY:Scout Den
DESCRIPTION:
URL:https://donabatescouting.com/calendar/scout-den/
LOCATION:Scout Den\, Portrane Road\, Donabate\, Dublin\, K36 HO48
CATEGORIES:Cubs
ATTACH;FMTTYPE=image/jpeg:https://donabatescouting.com/wp-content/uploads/2021/09/Donabate-Scouting-Cub-scouts-HP-mobile.jpg
END:VEVENT
BEGIN:VEVENT
DTSTART;TZID=Europe/Dublin:20231002T190000
DTEND;TZID=Europe/Dublin:20231002T203000
DTSTAMP:20260425T114819
CREATED:20230920T150035Z
LAST-MODIFIED:20230920T150040Z
UID:368296-1696273200-1696278600@donabatescouting.com
SUMMARY:Beavers Night Hike
DESCRIPTION:
URL:https://donabatescouting.com/calendar/beavers-night-hike/
LOCATION:Turvey Allotments\, Turvey Ave\, Turvey\, Donabate\, Co. Fingal\, Ireland
CATEGORIES:Beavers
ATTACH;FMTTYPE=image/jpeg:https://donabatescouting.com/wp-content/uploads/2021/09/Donabate-Scouting-Beaver-scouts-HP-mobile.jpg
END:VEVENT
BEGIN:VEVENT
DTSTART;TZID=Europe/Dublin:20230927T190000
DTEND;TZID=Europe/Dublin:20230927T203000
DTSTAMP:20260425T114819
CREATED:20230920T145729Z
LAST-MODIFIED:20230920T150438Z
UID:368293-1695841200-1695846600@donabatescouting.com
SUMMARY:Scout Den
DESCRIPTION:
URL:https://donabatescouting.com/calendar/map-and-compass/
LOCATION:Scout Den\, Portrane Road\, Donabate\, Dublin\, K36 HO48
CATEGORIES:Cubs
ATTACH;FMTTYPE=image/jpeg:https://donabatescouting.com/wp-content/uploads/2021/09/Donabate-Scouting-Cub-scouts-HP-mobile.jpg
END:VEVENT
END:VCALENDAR