BEGIN:VCALENDAR
VERSION:2.0
PRODID:-//Donabate Scouting - ECPv6.15.15//NONSGML v1.0//EN
CALSCALE:GREGORIAN
METHOD:PUBLISH
X-WR-CALNAME:Donabate Scouting
X-ORIGINAL-URL:https://donabatescouting.com
X-WR-CALDESC:Events for Donabate Scouting
REFRESH-INTERVAL;VALUE=DURATION:PT1H
X-Robots-Tag:noindex
X-PUBLISHED-TTL:PT1H
BEGIN:VTIMEZONE
TZID:Europe/Dublin
BEGIN:STANDARD
TZOFFSETFROM:+0000
TZOFFSETTO:+0100
TZNAME:IST
DTSTART:20220327T010000
END:STANDARD
BEGIN:DAYLIGHT
TZOFFSETFROM:+0100
TZOFFSETTO:+0000
TZNAME:GMT
DTSTART:20221030T010000
END:DAYLIGHT
BEGIN:STANDARD
TZOFFSETFROM:+0000
TZOFFSETTO:+0100
TZNAME:IST
DTSTART:20230326T010000
END:STANDARD
BEGIN:DAYLIGHT
TZOFFSETFROM:+0100
TZOFFSETTO:+0000
TZNAME:GMT
DTSTART:20231029T010000
END:DAYLIGHT
BEGIN:STANDARD
TZOFFSETFROM:+0000
TZOFFSETTO:+0100
TZNAME:IST
DTSTART:20240331T010000
END:STANDARD
BEGIN:DAYLIGHT
TZOFFSETFROM:+0100
TZOFFSETTO:+0000
TZNAME:GMT
DTSTART:20241027T010000
END:DAYLIGHT
BEGIN:STANDARD
TZOFFSETFROM:+0000
TZOFFSETTO:+0100
TZNAME:IST
DTSTART:20250330T010000
END:STANDARD
BEGIN:DAYLIGHT
TZOFFSETFROM:+0100
TZOFFSETTO:+0000
TZNAME:GMT
DTSTART:20251026T010000
END:DAYLIGHT
END:VTIMEZONE
BEGIN:VEVENT
DTSTART;TZID=Europe/Dublin:20240207T190000
DTEND;TZID=Europe/Dublin:20240207T203000
DTSTAMP:20260422T131855
CREATED:20240201T123204Z
LAST-MODIFIED:20240201T123207Z
UID:368504-1707332400-1707337800@donabatescouting.com
SUMMARY:Backwoods badge - Start
DESCRIPTION:
URL:https://donabatescouting.com/calendar/backwoods-badge-start/
LOCATION:Scout Den\, Portrane Road\, Donabate\, Dublin\, K36 HO48
CATEGORIES:Cubs
ATTACH;FMTTYPE=image/jpeg:https://donabatescouting.com/wp-content/uploads/2021/09/Donabate-Scouting-Cub-scouts-HP-mobile.jpg
END:VEVENT
BEGIN:VEVENT
DTSTART;TZID=Europe/Dublin:20240131T190000
DTEND;TZID=Europe/Dublin:20240131T203000
DTSTAMP:20260422T131855
CREATED:20240116T121746Z
LAST-MODIFIED:20240116T121750Z
UID:368485-1706727600-1706733000@donabatescouting.com
SUMMARY:Beavers/Cubs - First Aid event and badge presentation
DESCRIPTION:
URL:https://donabatescouting.com/calendar/beavers-cubs-first-aid-event-and-badge-presentation/
LOCATION:Scout Den\, Portrane Road\, Donabate\, Dublin\, K36 HO48
CATEGORIES:Beavers,Cubs
ATTACH;FMTTYPE=image/jpeg:https://donabatescouting.com/wp-content/uploads/2021/09/Donabate-Scouting-Cub-scouts-HP-mobile.jpg
END:VEVENT
BEGIN:VEVENT
DTSTART;TZID=Europe/Dublin:20240124T190000
DTEND;TZID=Europe/Dublin:20240124T203000
DTSTAMP:20260422T131855
CREATED:20240116T121629Z
LAST-MODIFIED:20240116T121633Z
UID:368482-1706122800-1706128200@donabatescouting.com
SUMMARY:Cubs - Emergency badge Level 2
DESCRIPTION:
URL:https://donabatescouting.com/calendar/cubs-emergency-badge-level-2-3/
LOCATION:Scout Den\, Portrane Road\, Donabate\, Dublin\, K36 HO48
CATEGORIES:Cubs
ATTACH;FMTTYPE=image/jpeg:https://donabatescouting.com/wp-content/uploads/2021/09/Donabate-Scouting-Cub-scouts-HP-mobile.jpg
END:VEVENT
BEGIN:VEVENT
DTSTART;TZID=Europe/Dublin:20240117T190000
DTEND;TZID=Europe/Dublin:20240117T203000
DTSTAMP:20260422T131855
CREATED:20240116T121148Z
LAST-MODIFIED:20240116T121531Z
UID:368479-1705518000-1705523400@donabatescouting.com
SUMMARY:Cubs - Emergency badge Level 2
DESCRIPTION:
URL:https://donabatescouting.com/calendar/cubs-emergency-badge-level-2-2/
LOCATION:Scout Den\, Portrane Road\, Donabate\, Dublin\, K36 HO48
CATEGORIES:Cubs
ATTACH;FMTTYPE=image/jpeg:https://donabatescouting.com/wp-content/uploads/2021/09/Donabate-Scouting-Cub-scouts-HP-mobile.jpg
END:VEVENT
BEGIN:VEVENT
DTSTART;TZID=Europe/Dublin:20240110T190000
DTEND;TZID=Europe/Dublin:20240110T203000
DTSTAMP:20260422T131855
CREATED:20240116T121029Z
LAST-MODIFIED:20240116T121038Z
UID:368476-1704913200-1704918600@donabatescouting.com
SUMMARY:Cubs - Emergency badge Level 2
DESCRIPTION:
URL:https://donabatescouting.com/calendar/cubs-emergency-badge-level-2/
LOCATION:Scout Den\, Portrane Road\, Donabate\, Dublin\, K36 HO48
CATEGORIES:Cubs
ATTACH;FMTTYPE=image/jpeg:https://donabatescouting.com/wp-content/uploads/2021/09/Donabate-Scouting-Cub-scouts-HP-mobile.jpg
END:VEVENT
BEGIN:VEVENT
DTSTART;TZID=Europe/Dublin:20231220T190000
DTEND;TZID=Europe/Dublin:20231220T203000
DTSTAMP:20260422T131855
CREATED:20231124T114645Z
LAST-MODIFIED:20231124T114648Z
UID:368462-1703098800-1703104200@donabatescouting.com
SUMMARY:Cubs/Beavers Christmas party
DESCRIPTION:
URL:https://donabatescouting.com/calendar/cubs-beavers-christmas-party/
LOCATION:Scout Den\, Portrane Road\, Donabate\, Dublin\, K36 HO48
CATEGORIES:Beavers,Cubs
ATTACH;FMTTYPE=image/jpeg:https://donabatescouting.com/wp-content/uploads/2021/09/Donabate-Scouting-Cub-scouts-HP-mobile.jpg
END:VEVENT
BEGIN:VEVENT
DTSTART;TZID=Europe/Dublin:20231213T190000
DTEND;TZID=Europe/Dublin:20231213T203000
DTSTAMP:20260422T131855
CREATED:20231124T114917Z
LAST-MODIFIED:20231124T114921Z
UID:368470-1702494000-1702499400@donabatescouting.com
SUMMARY:Christmas Crafts
DESCRIPTION:
URL:https://donabatescouting.com/calendar/christmas-crafts-2/
LOCATION:Scout Den\, Portrane Road\, Donabate\, Dublin\, K36 HO48
CATEGORIES:Cubs
ATTACH;FMTTYPE=image/jpeg:https://donabatescouting.com/wp-content/uploads/2021/09/Donabate-Scouting-Cub-scouts-HP-mobile.jpg
END:VEVENT
BEGIN:VEVENT
DTSTART;TZID=Europe/Dublin:20231206T190000
DTEND;TZID=Europe/Dublin:20231206T203000
DTSTAMP:20260422T131855
CREATED:20231124T114513Z
LAST-MODIFIED:20231124T114519Z
UID:368459-1701889200-1701894600@donabatescouting.com
SUMMARY:Annual Chipper Hike
DESCRIPTION:
URL:https://donabatescouting.com/calendar/annual-chipper-hike-2/
LOCATION:Scout Den\, Portrane Road\, Donabate\, Dublin\, K36 HO48
CATEGORIES:Cubs
ATTACH;FMTTYPE=image/jpeg:https://donabatescouting.com/wp-content/uploads/2021/09/Donabate-Scouting-Cub-scouts-HP-mobile.jpg
END:VEVENT
BEGIN:VEVENT
DTSTART;TZID=Europe/Dublin:20231129T190000
DTEND;TZID=Europe/Dublin:20231129T203000
DTSTAMP:20260422T131855
CREATED:20231113T110136Z
LAST-MODIFIED:20231124T115058Z
UID:368446-1701284400-1701289800@donabatescouting.com
SUMMARY:Cub Coastal Hike
DESCRIPTION:
URL:https://donabatescouting.com/calendar/cub-coastal-hike/
LOCATION:Portrane Beah\, K36 XN80\, Ireland
CATEGORIES:Cubs
ATTACH;FMTTYPE=image/jpeg:https://donabatescouting.com/wp-content/uploads/2021/09/Donabate-Scouting-Cub-scouts-HP-mobile.jpg
END:VEVENT
BEGIN:VEVENT
DTSTART;TZID=Europe/Dublin:20231126T143000
DTEND;TZID=Europe/Dublin:20231126T160000
DTSTAMP:20260422T131855
CREATED:20231108T130441Z
LAST-MODIFIED:20231108T130445Z
UID:368431-1701009000-1701014400@donabatescouting.com
SUMMARY:Cubs MudRun
DESCRIPTION:
URL:https://donabatescouting.com/calendar/cubs-mudrun/
LOCATION:Deer park Gold Course\, D13 T8K1\, Ireland
CATEGORIES:Cubs
ATTACH;FMTTYPE=image/jpeg:https://donabatescouting.com/wp-content/uploads/2021/09/Donabate-Scouting-Cub-scouts-HP-mobile.jpg
END:VEVENT
BEGIN:VEVENT
DTSTART;TZID=Europe/Dublin:20231122T190000
DTEND;TZID=Europe/Dublin:20231122T203000
DTSTAMP:20260422T131855
CREATED:20231113T105902Z
LAST-MODIFIED:20231113T105911Z
UID:368443-1700679600-1700685000@donabatescouting.com
SUMMARY:Cub Meeting
DESCRIPTION:
URL:https://donabatescouting.com/calendar/cub-meeting-2/
LOCATION:Scout Den\, Portrane Road\, Donabate\, Dublin\, K36 HO48
CATEGORIES:Cubs
ATTACH;FMTTYPE=image/jpeg:https://donabatescouting.com/wp-content/uploads/2021/09/Donabate-Scouting-Cub-scouts-HP-mobile.jpg
END:VEVENT
BEGIN:VEVENT
DTSTART;TZID=Europe/Dublin:20231115T190000
DTEND;TZID=Europe/Dublin:20231115T203000
DTSTAMP:20260422T131855
CREATED:20231113T105734Z
LAST-MODIFIED:20231113T110011Z
UID:368440-1700074800-1700080200@donabatescouting.com
SUMMARY:Cub Meeting
DESCRIPTION:
URL:https://donabatescouting.com/calendar/cub-meeting/
LOCATION:Scout Den\, Portrane Road\, Donabate\, Dublin\, K36 HO48
CATEGORIES:Cubs
ATTACH;FMTTYPE=image/jpeg:https://donabatescouting.com/wp-content/uploads/2021/09/Donabate-Scouting-Cub-scouts-HP-mobile.jpg
END:VEVENT
BEGIN:VEVENT
DTSTART;TZID=Europe/Dublin:20231108T070000
DTEND;TZID=Europe/Dublin:20231108T203000
DTSTAMP:20260422T131855
CREATED:20231107T095248Z
LAST-MODIFIED:20231107T095256Z
UID:368428-1699426800-1699475400@donabatescouting.com
SUMMARY:Training Review
DESCRIPTION:
URL:https://donabatescouting.com/calendar/training-review/
LOCATION:Scout Den\, Portrane Road\, Donabate\, Dublin\, K36 HO48
CATEGORIES:Cubs
ATTACH;FMTTYPE=image/jpeg:https://donabatescouting.com/wp-content/uploads/2021/09/Donabate-Scouting-Cub-scouts-HP-mobile.jpg
END:VEVENT
BEGIN:VEVENT
DTSTART;TZID=Europe/Dublin:20231104T120000
DTEND;TZID=Europe/Dublin:20231104T170000
DTSTAMP:20260422T131855
CREATED:20231106T155222Z
LAST-MODIFIED:20231106T155231Z
UID:368416-1699099200-1699117200@donabatescouting.com
SUMMARY:Sixer & Seconder training
DESCRIPTION:
URL:https://donabatescouting.com/calendar/sixer-seconder-training/
LOCATION:Scout Den\, Portrane Road\, Donabate\, Dublin\, K36 HO48
CATEGORIES:Cubs
ATTACH;FMTTYPE=image/jpeg:https://donabatescouting.com/wp-content/uploads/2021/09/Donabate-Scouting-Cub-scouts-HP-mobile.jpg
END:VEVENT
BEGIN:VEVENT
DTSTART;TZID=Europe/Dublin:20231025T190000
DTEND;TZID=Europe/Dublin:20231025T203000
DTSTAMP:20260422T131855
CREATED:20230920T150920Z
LAST-MODIFIED:20230920T150925Z
UID:368316-1698260400-1698265800@donabatescouting.com
SUMMARY:Halloween Fancy dress party
DESCRIPTION:
URL:https://donabatescouting.com/calendar/halloween-fancy-dress-party/
LOCATION:Scout Den\, Portrane Road\, Donabate\, Dublin\, K36 HO48
CATEGORIES:Cubs
ATTACH;FMTTYPE=image/jpeg:https://donabatescouting.com/wp-content/uploads/2021/09/Donabate-Scouting-Cub-scouts-HP-mobile.jpg
END:VEVENT
BEGIN:VEVENT
DTSTART;TZID=Europe/Dublin:20231018T190000
DTEND;TZID=Europe/Dublin:20231018T203000
DTSTAMP:20260422T131855
CREATED:20230920T150724Z
LAST-MODIFIED:20230920T150728Z
UID:368313-1697655600-1697661000@donabatescouting.com
SUMMARY:Scout Den
DESCRIPTION:
URL:https://donabatescouting.com/calendar/scout-den-3/
LOCATION:Scout Den\, Portrane Road\, Donabate\, Dublin\, K36 HO48
CATEGORIES:Cubs
ATTACH;FMTTYPE=image/jpeg:https://donabatescouting.com/wp-content/uploads/2021/09/Donabate-Scouting-Cub-scouts-HP-mobile.jpg
END:VEVENT
BEGIN:VEVENT
DTSTART;TZID=Europe/Dublin:20231015T090000
DTEND;TZID=Europe/Dublin:20231015T170000
DTSTAMP:20260422T131855
CREATED:20230920T151434Z
LAST-MODIFIED:20230920T151528Z
UID:368323-1697360400-1697389200@donabatescouting.com
SUMMARY:Dublinia
DESCRIPTION:
URL:https://donabatescouting.com/calendar/dublinia/
LOCATION:Dublinia\, St Michael’s Hill\, Christ Church\, Dublin 8
CATEGORIES:Cubs
ATTACH;FMTTYPE=image/jpeg:https://donabatescouting.com/wp-content/uploads/2021/09/Donabate-Scouting-Cub-scouts-HP-mobile.jpg
END:VEVENT
BEGIN:VEVENT
DTSTART;TZID=Europe/Dublin:20231011T190000
DTEND;TZID=Europe/Dublin:20231011T203000
DTSTAMP:20260422T131855
CREATED:20230920T150635Z
LAST-MODIFIED:20230920T150639Z
UID:368310-1697050800-1697056200@donabatescouting.com
SUMMARY:Scout Den
DESCRIPTION:
URL:https://donabatescouting.com/calendar/scout-den-2/
LOCATION:Scout Den\, Portrane Road\, Donabate\, Dublin\, K36 HO48
CATEGORIES:Cubs
ATTACH;FMTTYPE=image/jpeg:https://donabatescouting.com/wp-content/uploads/2021/09/Donabate-Scouting-Cub-scouts-HP-mobile.jpg
END:VEVENT
BEGIN:VEVENT
DTSTART;TZID=Europe/Dublin:20231008T140000
DTEND;TZID=Europe/Dublin:20231008T160000
DTSTAMP:20260422T131855
CREATED:20230920T151146Z
LAST-MODIFIED:20230920T151150Z
UID:368319-1696773600-1696780800@donabatescouting.com
SUMMARY:Orienteering afternoon
DESCRIPTION:
URL:https://donabatescouting.com/calendar/orienteering-afternoon/
LOCATION:Newbridge House\, Newbridge Hopuse\, K36 VR90
CATEGORIES:Cubs
ATTACH;FMTTYPE=image/jpeg:https://donabatescouting.com/wp-content/uploads/2021/09/Donabate-Scouting-Cub-scouts-HP-mobile.jpg
END:VEVENT
BEGIN:VEVENT
DTSTART;TZID=Europe/Dublin:20231004T190000
DTEND;TZID=Europe/Dublin:20231004T203000
DTSTAMP:20260422T131855
CREATED:20230920T150540Z
LAST-MODIFIED:20230920T150805Z
UID:368305-1696446000-1696451400@donabatescouting.com
SUMMARY:Scout Den
DESCRIPTION:
URL:https://donabatescouting.com/calendar/scout-den/
LOCATION:Scout Den\, Portrane Road\, Donabate\, Dublin\, K36 HO48
CATEGORIES:Cubs
ATTACH;FMTTYPE=image/jpeg:https://donabatescouting.com/wp-content/uploads/2021/09/Donabate-Scouting-Cub-scouts-HP-mobile.jpg
END:VEVENT
BEGIN:VEVENT
DTSTART;TZID=Europe/Dublin:20230927T190000
DTEND;TZID=Europe/Dublin:20230927T203000
DTSTAMP:20260422T131855
CREATED:20230920T145729Z
LAST-MODIFIED:20230920T150438Z
UID:368293-1695841200-1695846600@donabatescouting.com
SUMMARY:Scout Den
DESCRIPTION:
URL:https://donabatescouting.com/calendar/map-and-compass/
LOCATION:Scout Den\, Portrane Road\, Donabate\, Dublin\, K36 HO48
CATEGORIES:Cubs
ATTACH;FMTTYPE=image/jpeg:https://donabatescouting.com/wp-content/uploads/2021/09/Donabate-Scouting-Cub-scouts-HP-mobile.jpg
END:VEVENT
BEGIN:VEVENT
DTSTART;TZID=Europe/Dublin:20230923T150000
DTEND;TZID=Europe/Dublin:20230924T150000
DTSTAMP:20260422T131855
CREATED:20230904T155124Z
LAST-MODIFIED:20230920T145537Z
UID:368255-1695481200-1695567600@donabatescouting.com
SUMMARY:CUBS Camp Donabate Dexters Farm
DESCRIPTION:
URL:https://donabatescouting.com/calendar/cubs-camp-donabate-dexters-farm/
LOCATION:Turvey Allotments\, Turvey Ave\, Turvey\, Donabate\, Co. Fingal\, Ireland
CATEGORIES:Cubs
ATTACH;FMTTYPE=image/jpeg:https://donabatescouting.com/wp-content/uploads/2021/09/Donabate-Scouting-Cub-scouts-HP-mobile.jpg
END:VEVENT
BEGIN:VEVENT
DTSTART;TZID=Europe/Dublin:20230909T123000
DTEND;TZID=Europe/Dublin:20230909T163000
DTSTAMP:20260422T131855
CREATED:20230904T152752Z
LAST-MODIFIED:20230906T134040Z
UID:368240-1694262600-1694277000@donabatescouting.com
SUMMARY:CUBS Backwoods Afternoon Cooking
DESCRIPTION:
URL:https://donabatescouting.com/calendar/backwoods-afternoon-cooking/
LOCATION:Turvey Allotments\, Turvey Ave\, Turvey\, Donabate\, Co. Fingal\, Ireland
CATEGORIES:Cubs
ATTACH;FMTTYPE=image/jpeg:https://donabatescouting.com/wp-content/uploads/2021/09/Donabate-Scouting-Cub-scouts-HP-mobile.jpg
END:VEVENT
BEGIN:VEVENT
DTSTART;VALUE=DATE:20230903
DTEND;VALUE=DATE:20230904
DTSTAMP:20260422T131855
CREATED:20230904T152148Z
LAST-MODIFIED:20230906T134050Z
UID:368234-1693699200-1693785599@donabatescouting.com
SUMMARY:CUBS Miner's Pass Hike Glendalough
DESCRIPTION:
URL:https://donabatescouting.com/calendar/cubs-miners-pass-hike-glendalough/
LOCATION:Glendalough\, Glendalough\, Bray\, Co. Wicklow\, Leinster\, A98 HC80\, Ireland
CATEGORIES:Cubs
ATTACH;FMTTYPE=image/jpeg:https://donabatescouting.com/wp-content/uploads/2021/09/Donabate-Scouting-Cub-scouts-HP-mobile.jpg
END:VEVENT
END:VCALENDAR